BEGIN:VCALENDAR
VERSION:2.0
PRODID:-//Evesham Fire-Rescue - ECPv6.15.20//NONSGML v1.0//EN
CALSCALE:GREGORIAN
METHOD:PUBLISH
X-WR-CALNAME:Evesham Fire-Rescue
X-ORIGINAL-URL:https://eveshamfire.org
X-WR-CALDESC:Events for Evesham Fire-Rescue
REFRESH-INTERVAL;VALUE=DURATION:PT1H
X-Robots-Tag:noindex
X-PUBLISHED-TTL:PT1H
BEGIN:VTIMEZONE
TZID:America/New_York
BEGIN:DAYLIGHT
TZOFFSETFROM:-0500
TZOFFSETTO:-0400
TZNAME:EDT
DTSTART:20230312T070000
END:DAYLIGHT
BEGIN:STANDARD
TZOFFSETFROM:-0400
TZOFFSETTO:-0500
TZNAME:EST
DTSTART:20231105T060000
END:STANDARD
BEGIN:DAYLIGHT
TZOFFSETFROM:-0500
TZOFFSETTO:-0400
TZNAME:EDT
DTSTART:20240310T070000
END:DAYLIGHT
BEGIN:STANDARD
TZOFFSETFROM:-0400
TZOFFSETTO:-0500
TZNAME:EST
DTSTART:20241103T060000
END:STANDARD
BEGIN:DAYLIGHT
TZOFFSETFROM:-0500
TZOFFSETTO:-0400
TZNAME:EDT
DTSTART:20250309T070000
END:DAYLIGHT
BEGIN:STANDARD
TZOFFSETFROM:-0400
TZOFFSETTO:-0500
TZNAME:EST
DTSTART:20251102T060000
END:STANDARD
END:VTIMEZONE
BEGIN:VEVENT
DTSTART;TZID=America/New_York:20240910T190000
DTEND;TZID=America/New_York:20240910T210000
DTSTAMP:20260424T114011
CREATED:20240327T222656Z
LAST-MODIFIED:20240327T222656Z
UID:10000007-1725994800-1726002000@eveshamfire.org
SUMMARY:Board of Fire Commissioners Regular Meeting
DESCRIPTION:Join us for the Board of Fire Commissioners Meeting\, a crucial gathering where key decisions and discussions regarding the future and functionality of our fire service take place. In adherence to the Open Public Meetings Act\, we ensure transparency and encourage public participation in these sessions. \nLocation: Station 221\, 3rd Floor\, Marlton Fire Station\, 26 East Main Street\, Marlton\, NJ\nTime: All regular meetings begin at 7:00 PM\, prevailing time \nThese meetings are pivotal in shaping the policies\, strategies\, and operations of our fire service. They are scheduled to provide both the commissioners and the community an opportunity to come together\, discuss\, and make informed decisions for the betterment of our services. \nPlease note that while we aim to adhere to the scheduled times and locations\, any necessary changes regarding the date\, time\, or place of the meetings will be updated accordingly. Your involvement and input are valuable to us\, and we look forward to seeing you there.
URL:https://eveshamfire.org/event/board-of-fire-commissioners-regular-meeting-7/
LOCATION:Evesham Fire-Rescue Station 221\, 26 East Main Street\, Evesham\, NJ\, 08053\, United States
CATEGORIES:Board of Fire Commissioners Meeting
END:VEVENT
BEGIN:VEVENT
DTSTART;TZID=America/New_York:20240813T190000
DTEND;TZID=America/New_York:20240813T210000
DTSTAMP:20260424T114011
CREATED:20240327T222626Z
LAST-MODIFIED:20240327T222626Z
UID:10000006-1723575600-1723582800@eveshamfire.org
SUMMARY:Board of Fire Commissioners Regular Meeting
DESCRIPTION:Join us for the Board of Fire Commissioners Meeting\, a crucial gathering where key decisions and discussions regarding the future and functionality of our fire service take place. In adherence to the Open Public Meetings Act\, we ensure transparency and encourage public participation in these sessions. \nLocation: Station 221\, 3rd Floor\, Marlton Fire Station\, 26 East Main Street\, Marlton\, NJ\nTime: All regular meetings begin at 7:00 PM\, prevailing time \nThese meetings are pivotal in shaping the policies\, strategies\, and operations of our fire service. They are scheduled to provide both the commissioners and the community an opportunity to come together\, discuss\, and make informed decisions for the betterment of our services. \nPlease note that while we aim to adhere to the scheduled times and locations\, any necessary changes regarding the date\, time\, or place of the meetings will be updated accordingly. Your involvement and input are valuable to us\, and we look forward to seeing you there.
URL:https://eveshamfire.org/event/board-of-fire-commissioners-regular-meeting-6/
LOCATION:Evesham Fire-Rescue Station 221\, 26 East Main Street\, Evesham\, NJ\, 08053\, United States
CATEGORIES:Board of Fire Commissioners Meeting
END:VEVENT
BEGIN:VEVENT
DTSTART;TZID=America/New_York:20240716T190000
DTEND;TZID=America/New_York:20240716T210000
DTSTAMP:20260424T114011
CREATED:20240327T222604Z
LAST-MODIFIED:20240327T222604Z
UID:10000005-1721156400-1721163600@eveshamfire.org
SUMMARY:Board of Fire Commissioners Regular Meeting
DESCRIPTION:Join us for the Board of Fire Commissioners Meeting\, a crucial gathering where key decisions and discussions regarding the future and functionality of our fire service take place. In adherence to the Open Public Meetings Act\, we ensure transparency and encourage public participation in these sessions. \nLocation: Station 221\, 3rd Floor\, Marlton Fire Station\, 26 East Main Street\, Marlton\, NJ\nTime: All regular meetings begin at 7:00 PM\, prevailing time \nThese meetings are pivotal in shaping the policies\, strategies\, and operations of our fire service. They are scheduled to provide both the commissioners and the community an opportunity to come together\, discuss\, and make informed decisions for the betterment of our services. \nPlease note that while we aim to adhere to the scheduled times and locations\, any necessary changes regarding the date\, time\, or place of the meetings will be updated accordingly. Your involvement and input are valuable to us\, and we look forward to seeing you there.
URL:https://eveshamfire.org/event/board-of-fire-commissioners-regular-meeting-5/
LOCATION:Evesham Fire-Rescue Station 221\, 26 East Main Street\, Evesham\, NJ\, 08053\, United States
CATEGORIES:Board of Fire Commissioners Meeting
END:VEVENT
BEGIN:VEVENT
DTSTART;TZID=America/New_York:20240611T190000
DTEND;TZID=America/New_York:20240611T210000
DTSTAMP:20260424T114011
CREATED:20240327T222532Z
LAST-MODIFIED:20240327T222532Z
UID:10000004-1718132400-1718139600@eveshamfire.org
SUMMARY:Board of Fire Commissioners Regular Meeting
DESCRIPTION:Join us for the Board of Fire Commissioners Meeting\, a crucial gathering where key decisions and discussions regarding the future and functionality of our fire service take place. In adherence to the Open Public Meetings Act\, we ensure transparency and encourage public participation in these sessions. \nLocation: Station 221\, 3rd Floor\, Marlton Fire Station\, 26 East Main Street\, Marlton\, NJ\nTime: All regular meetings begin at 7:00 PM\, prevailing time \nThese meetings are pivotal in shaping the policies\, strategies\, and operations of our fire service. They are scheduled to provide both the commissioners and the community an opportunity to come together\, discuss\, and make informed decisions for the betterment of our services. \nPlease note that while we aim to adhere to the scheduled times and locations\, any necessary changes regarding the date\, time\, or place of the meetings will be updated accordingly. Your involvement and input are valuable to us\, and we look forward to seeing you there.
URL:https://eveshamfire.org/event/board-of-fire-commissioners-regular-meeting-4/
LOCATION:Evesham Fire-Rescue Station 221\, 26 East Main Street\, Evesham\, NJ\, 08053\, United States
CATEGORIES:Board of Fire Commissioners Meeting
END:VEVENT
BEGIN:VEVENT
DTSTART;TZID=America/New_York:20240514T190000
DTEND;TZID=America/New_York:20240514T210000
DTSTAMP:20260424T114011
CREATED:20240327T222459Z
LAST-MODIFIED:20240327T222511Z
UID:10000003-1715713200-1715720400@eveshamfire.org
SUMMARY:Board of Fire Commissioners Regular Meeting
DESCRIPTION:Join us for the Board of Fire Commissioners Meeting\, a crucial gathering where key decisions and discussions regarding the future and functionality of our fire service take place. In adherence to the Open Public Meetings Act\, we ensure transparency and encourage public participation in these sessions. \nLocation: Station 221\, 3rd Floor\, Marlton Fire Station\, 26 East Main Street\, Marlton\, NJ\nTime: All regular meetings begin at 7:00 PM\, prevailing time \nThese meetings are pivotal in shaping the policies\, strategies\, and operations of our fire service. They are scheduled to provide both the commissioners and the community an opportunity to come together\, discuss\, and make informed decisions for the betterment of our services. \nPlease note that while we aim to adhere to the scheduled times and locations\, any necessary changes regarding the date\, time\, or place of the meetings will be updated accordingly. Your involvement and input are valuable to us\, and we look forward to seeing you there.
URL:https://eveshamfire.org/event/board-of-fire-commissioners-regular-meeting-3/
LOCATION:Evesham Fire-Rescue Station 221\, 26 East Main Street\, Evesham\, NJ\, 08053\, United States
CATEGORIES:Board of Fire Commissioners Meeting
END:VEVENT
BEGIN:VEVENT
DTSTART;TZID=America/New_York:20240430T190000
DTEND;TZID=America/New_York:20240430T210000
DTSTAMP:20260424T114011
CREATED:20240327T222357Z
LAST-MODIFIED:20240327T222357Z
UID:10000002-1714503600-1714510800@eveshamfire.org
SUMMARY:Board of Fire Commissioners Regular Meeting
DESCRIPTION:Join us for the Board of Fire Commissioners Meeting\, a crucial gathering where key decisions and discussions regarding the future and functionality of our fire service take place. In adherence to the Open Public Meetings Act\, we ensure transparency and encourage public participation in these sessions. \nLocation: Station 221\, 3rd Floor\, Marlton Fire Station\, 26 East Main Street\, Marlton\, NJ\nTime: All regular meetings begin at 7:00 PM\, prevailing time \nThese meetings are pivotal in shaping the policies\, strategies\, and operations of our fire service. They are scheduled to provide both the commissioners and the community an opportunity to come together\, discuss\, and make informed decisions for the betterment of our services. \nPlease note that while we aim to adhere to the scheduled times and locations\, any necessary changes regarding the date\, time\, or place of the meetings will be updated accordingly. Your involvement and input are valuable to us\, and we look forward to seeing you there.
URL:https://eveshamfire.org/event/board-of-fire-commissioners-regular-meeting-2/
LOCATION:Evesham Fire-Rescue Station 221\, 26 East Main Street\, Evesham\, NJ\, 08053\, United States
CATEGORIES:Board of Fire Commissioners Meeting
END:VEVENT
BEGIN:VEVENT
DTSTART;TZID=America/New_York:20240416T190000
DTEND;TZID=America/New_York:20240416T210000
DTSTAMP:20260424T114011
CREATED:20240327T222140Z
LAST-MODIFIED:20240327T222319Z
UID:10000001-1713294000-1713301200@eveshamfire.org
SUMMARY:Board of Fire Commissioners Regular Meeting
DESCRIPTION:Join us for the Board of Fire Commissioners Meeting\, a crucial gathering where key decisions and discussions regarding the future and functionality of our fire service take place. In adherence to the Open Public Meetings Act\, we ensure transparency and encourage public participation in these sessions. \nLocation: Station 221\, 3rd Floor\, Marlton Fire Station\, 26 East Main Street\, Marlton\, NJ\nTime: All regular meetings begin at 7:00 PM\, prevailing time \nThese meetings are pivotal in shaping the policies\, strategies\, and operations of our fire service. They are scheduled to provide both the commissioners and the community an opportunity to come together\, discuss\, and make informed decisions for the betterment of our services. \nPlease note that while we aim to adhere to the scheduled times and locations\, any necessary changes regarding the date\, time\, or place of the meetings will be updated accordingly. Your involvement and input are valuable to us\, and we look forward to seeing you there.
URL:https://eveshamfire.org/event/board-of-fire-commissioners-regular-meeting/
LOCATION:Evesham Fire-Rescue Station 221\, 26 East Main Street\, Evesham\, NJ\, 08053\, United States
CATEGORIES:Board of Fire Commissioners Meeting
END:VEVENT
END:VCALENDAR